BEGIN:VCALENDAR
VERSION:2.0
PRODID:-//Masjid-ut-Taqwa - ECPv6.15.18//NONSGML v1.0//EN
CALSCALE:GREGORIAN
METHOD:PUBLISH
X-ORIGINAL-URL:https://taqwamasjid.ca
X-WR-CALDESC:Events for Masjid-ut-Taqwa
REFRESH-INTERVAL;VALUE=DURATION:PT1H
X-Robots-Tag:noindex
X-PUBLISHED-TTL:PT1H
BEGIN:VTIMEZONE
TZID:America/Toronto
BEGIN:DAYLIGHT
TZOFFSETFROM:-0500
TZOFFSETTO:-0400
TZNAME:EDT
DTSTART:20230312T070000
END:DAYLIGHT
BEGIN:STANDARD
TZOFFSETFROM:-0400
TZOFFSETTO:-0500
TZNAME:EST
DTSTART:20231105T060000
END:STANDARD
BEGIN:DAYLIGHT
TZOFFSETFROM:-0500
TZOFFSETTO:-0400
TZNAME:EDT
DTSTART:20240310T070000
END:DAYLIGHT
BEGIN:STANDARD
TZOFFSETFROM:-0400
TZOFFSETTO:-0500
TZNAME:EST
DTSTART:20241103T060000
END:STANDARD
BEGIN:DAYLIGHT
TZOFFSETFROM:-0500
TZOFFSETTO:-0400
TZNAME:EDT
DTSTART:20250309T070000
END:DAYLIGHT
BEGIN:STANDARD
TZOFFSETFROM:-0400
TZOFFSETTO:-0500
TZNAME:EST
DTSTART:20251102T060000
END:STANDARD
BEGIN:DAYLIGHT
TZOFFSETFROM:-0500
TZOFFSETTO:-0400
TZNAME:EDT
DTSTART:20260308T070000
END:DAYLIGHT
BEGIN:STANDARD
TZOFFSETFROM:-0400
TZOFFSETTO:-0500
TZNAME:EST
DTSTART:20261101T060000
END:STANDARD
END:VTIMEZONE
BEGIN:VEVENT
DTSTART;VALUE=DATE:20241016
DTEND;VALUE=DATE:20250401
DTSTAMP:20260421T150645
CREATED:20241017T004344Z
LAST-MODIFIED:20250703T034755Z
UID:5401-1729036800-1743465599@taqwamasjid.ca
SUMMARY:Evening Quran Classes
DESCRIPTION:Evening Quran Classes at Masjid Taqwa
URL:https://taqwamasjid.ca/event/evening-quran-classes/
CATEGORIES:Past 2025
ATTACH;FMTTYPE=image/jpeg:https://taqwamasjid.ca/wp-content/uploads/2024/10/Evening-Quran-Classes.jpeg
END:VEVENT
BEGIN:VEVENT
DTSTART;TZID=America/Toronto:20250228T080000
DTEND;TZID=America/Toronto:20250328T080000
DTSTAMP:20260421T150645
CREATED:20250301T020034Z
LAST-MODIFIED:20250703T034759Z
UID:5413-1740729600-1743148800@taqwamasjid.ca
SUMMARY:Ramadhan 2025 Moon Sighting
DESCRIPTION:Assalamu Alaikum wa Rahmatullahi wa Barakatuhu \nThe Hilal Council of Canada has received verified sightings of the new moon. Thus\, the first day of Ramadan will be on Saturday\, March 1st\, 2025. The first night of Taraweeh will be tonight\, February 28th\, 2025. \nFor more information on Hilal Council of Canada\, please visit: www.hilalcouncilofcanada.com \nMasjid Ut Taqwa
URL:https://taqwamasjid.ca/event/ramadhan-2025-moon-sighting/
CATEGORIES:Past 2025
ATTACH;FMTTYPE=image/jpeg:https://taqwamasjid.ca/wp-content/uploads/2022/04/download3.jpg
END:VEVENT
END:VCALENDAR