BEGIN:VCALENDAR
VERSION:2.0
PRODID:-//Masjid-ut-Taqwa - ECPv6.15.18//NONSGML v1.0//EN
CALSCALE:GREGORIAN
METHOD:PUBLISH
X-WR-CALNAME:Masjid-ut-Taqwa
X-ORIGINAL-URL:https://taqwamasjid.ca
X-WR-CALDESC:Events for Masjid-ut-Taqwa
REFRESH-INTERVAL;VALUE=DURATION:PT1H
X-Robots-Tag:noindex
X-PUBLISHED-TTL:PT1H
BEGIN:VTIMEZONE
TZID:America/Toronto
BEGIN:DAYLIGHT
TZOFFSETFROM:-0500
TZOFFSETTO:-0400
TZNAME:EDT
DTSTART:20240310T070000
END:DAYLIGHT
BEGIN:STANDARD
TZOFFSETFROM:-0400
TZOFFSETTO:-0500
TZNAME:EST
DTSTART:20241103T060000
END:STANDARD
BEGIN:DAYLIGHT
TZOFFSETFROM:-0500
TZOFFSETTO:-0400
TZNAME:EDT
DTSTART:20250309T070000
END:DAYLIGHT
BEGIN:STANDARD
TZOFFSETFROM:-0400
TZOFFSETTO:-0500
TZNAME:EST
DTSTART:20251102T060000
END:STANDARD
BEGIN:DAYLIGHT
TZOFFSETFROM:-0500
TZOFFSETTO:-0400
TZNAME:EDT
DTSTART:20260308T070000
END:DAYLIGHT
BEGIN:STANDARD
TZOFFSETFROM:-0400
TZOFFSETTO:-0500
TZNAME:EST
DTSTART:20261101T060000
END:STANDARD
END:VTIMEZONE
BEGIN:VEVENT
DTSTART;TZID=America/Toronto:20250701T080000
DTEND;TZID=America/Toronto:20250801T080000
DTSTAMP:20260421T085650
CREATED:20250703T035429Z
LAST-MODIFIED:20250806T011052Z
UID:5479-1751356800-1754035200@taqwamasjid.ca
SUMMARY:Canada Day Flag Raising Ceremony - Tuesday July 01\, 2025
DESCRIPTION:Canada Day Flag Raising Ceremony – Tuesday July 01\, 2025
URL:https://taqwamasjid.ca/event/canada-day-flag-raising-ceremony-tuesday-july-01-2025/
CATEGORIES:Past 2025
ATTACH;FMTTYPE=image/jpeg:https://taqwamasjid.ca/wp-content/uploads/2025/07/Canada-Day-Masjid-Taqwa.jpg
END:VEVENT
END:VCALENDAR