BEGIN:VCALENDAR
VERSION:2.0
PRODID:-//Masjid-ut-Taqwa - ECPv6.15.18//NONSGML v1.0//EN
CALSCALE:GREGORIAN
METHOD:PUBLISH
X-ORIGINAL-URL:https://taqwamasjid.ca
X-WR-CALDESC:Events for Masjid-ut-Taqwa
REFRESH-INTERVAL;VALUE=DURATION:PT1H
X-Robots-Tag:noindex
X-PUBLISHED-TTL:PT1H
BEGIN:VTIMEZONE
TZID:America/Toronto
BEGIN:DAYLIGHT
TZOFFSETFROM:-0500
TZOFFSETTO:-0400
TZNAME:EDT
DTSTART:20240310T070000
END:DAYLIGHT
BEGIN:STANDARD
TZOFFSETFROM:-0400
TZOFFSETTO:-0500
TZNAME:EST
DTSTART:20241103T060000
END:STANDARD
BEGIN:DAYLIGHT
TZOFFSETFROM:-0500
TZOFFSETTO:-0400
TZNAME:EDT
DTSTART:20250309T070000
END:DAYLIGHT
BEGIN:STANDARD
TZOFFSETFROM:-0400
TZOFFSETTO:-0500
TZNAME:EST
DTSTART:20251102T060000
END:STANDARD
BEGIN:DAYLIGHT
TZOFFSETFROM:-0500
TZOFFSETTO:-0400
TZNAME:EDT
DTSTART:20260308T070000
END:DAYLIGHT
BEGIN:STANDARD
TZOFFSETFROM:-0400
TZOFFSETTO:-0500
TZNAME:EST
DTSTART:20261101T060000
END:STANDARD
END:VTIMEZONE
BEGIN:VEVENT
DTSTART;TZID=America/Toronto:20250805T080000
DTEND;TZID=America/Toronto:20250905T080000
DTSTAMP:20260421T084332
CREATED:20250806T011202Z
LAST-MODIFIED:20250901T110058Z
UID:5569-1754380800-1757059200@taqwamasjid.ca
SUMMARY:Zikr Majlis - Shakykh Dr. Mahmood Chandia
DESCRIPTION:Zikr Majlis – Wednesday August 06\, 2025
URL:https://taqwamasjid.ca/event/zikr-majlis-shakykh-dr-mahmood-chandia/
CATEGORIES:Past 2025
ATTACH;FMTTYPE=image/jpeg:https://taqwamasjid.ca/wp-content/uploads/2025/08/Zikr-Majlis.jpg
END:VEVENT
END:VCALENDAR