BEGIN:VCALENDAR
VERSION:2.0
PRODID:-//Masjid-ut-Taqwa - ECPv6.15.18//NONSGML v1.0//EN
CALSCALE:GREGORIAN
METHOD:PUBLISH
X-WR-CALNAME:Masjid-ut-Taqwa
X-ORIGINAL-URL:https://taqwamasjid.ca
X-WR-CALDESC:Events for Masjid-ut-Taqwa
REFRESH-INTERVAL;VALUE=DURATION:PT1H
X-Robots-Tag:noindex
X-PUBLISHED-TTL:PT1H
BEGIN:VTIMEZONE
TZID:America/Toronto
BEGIN:DAYLIGHT
TZOFFSETFROM:-0500
TZOFFSETTO:-0400
TZNAME:EDT
DTSTART:20200308T070000
END:DAYLIGHT
BEGIN:STANDARD
TZOFFSETFROM:-0400
TZOFFSETTO:-0500
TZNAME:EST
DTSTART:20201101T060000
END:STANDARD
BEGIN:DAYLIGHT
TZOFFSETFROM:-0500
TZOFFSETTO:-0400
TZNAME:EDT
DTSTART:20210314T070000
END:DAYLIGHT
BEGIN:STANDARD
TZOFFSETFROM:-0400
TZOFFSETTO:-0500
TZNAME:EST
DTSTART:20211107T060000
END:STANDARD
BEGIN:DAYLIGHT
TZOFFSETFROM:-0500
TZOFFSETTO:-0400
TZNAME:EDT
DTSTART:20220313T070000
END:DAYLIGHT
BEGIN:STANDARD
TZOFFSETFROM:-0400
TZOFFSETTO:-0500
TZNAME:EST
DTSTART:20221106T060000
END:STANDARD
BEGIN:DAYLIGHT
TZOFFSETFROM:-0500
TZOFFSETTO:-0400
TZNAME:EDT
DTSTART:20230312T070000
END:DAYLIGHT
BEGIN:STANDARD
TZOFFSETFROM:-0400
TZOFFSETTO:-0500
TZNAME:EST
DTSTART:20231105T060000
END:STANDARD
END:VTIMEZONE
BEGIN:VEVENT
DTSTART;TZID=America/Toronto:20220201T080000
DTEND;TZID=America/Toronto:20220201T170000
DTSTAMP:20260419T201317
CREATED:20200425T033134Z
LAST-MODIFIED:20220204T123636Z
UID:4653-1643702400-1643734800@taqwamasjid.ca
SUMMARY:Ramadan Kareem
DESCRIPTION:Alhamdulillah the new moon has been sighted in San Diego\, California and verified by the Scholars of HCC. \nThus Sha’ban ends tonight\, with the 1st fast of Ramadhan tomorrow\, Friday\, April 24th in sha Allah. \nTaraweeh will also commence tonight. \nThis Ramadhan is going to be very different than any other year and it is going to be a very new experience for everyone. We request everyone to do their night Ibadah and Taraweeh at home. \nMay Allah keep us all healthy and allow us to do the best of A’maal and attain the complete pleasure of Allah. This is the time for everyone to make dua for the entire ummah. May Allah SWT give us steadfastness in Ramadhan\, accept our fasts\, prayers\, and all other forms of ‘ibaadah. May Allah SWT give us the opportunity to worship Him during night of Qadr\, and may he help us all continue with good deeds throughout the rest of the year. Ameen! \nRamadhan Mubarak to you and your family!
URL:https://taqwamasjid.ca/event/ramadan-kareem/
CATEGORIES:Past 2020
ATTACH;FMTTYPE=image/jpeg:https://taqwamasjid.ca/wp-content/uploads/2021/08/Taqwa-Logo-1-2.jpg
END:VEVENT
BEGIN:VEVENT
DTSTART;TZID=America/Toronto:20220201T080000
DTEND;TZID=America/Toronto:20220201T170000
DTSTAMP:20260419T201317
CREATED:20200302T043421Z
LAST-MODIFIED:20220204T123609Z
UID:4657-1643702400-1643734800@taqwamasjid.ca
SUMMARY:COVID-19 - Suspension of all services including prayer
DESCRIPTION:Assalamu Alaykum Warahmathullahi Wabarakaatuh \nAfter much deliberation\, it is indeed\, with a heavy heart that Masjid-ut-Taqwa announces the temporary suspension of all services. As a result\, it will be closed to the public till further notice. As we monitor the situation\, we will\, Insha Allah\, inform the community once activities resume. \nIn this difficult time\, please remain in your homes and perform your prayers together as a family. We ask everyone to spend their time in seeking Allah’s SWT assistance to remove this calamity upon us. \nWe ask Allah SWT to forgive us\, guide us\, strengthen us\, and allow us to turn to him always. \nMay the choicest salutations and peace be upon the chosen Messenger\, his family\, and his companions. \nJazakumAllahu Khairan. \nSincerely\,\nBoard of Directors\nMasjid-ut-Taqwa Islamic Organization
URL:https://taqwamasjid.ca/event/covid-19-suspension-of-all-services-including-prayer/
CATEGORIES:Past 2020
ATTACH;FMTTYPE=image/jpeg:https://taqwamasjid.ca/wp-content/uploads/2021/08/Taqwa-Logo-1-2.jpg
END:VEVENT
BEGIN:VEVENT
DTSTART;TZID=America/Toronto:20220201T080000
DTEND;TZID=America/Toronto:20220201T170000
DTSTAMP:20260419T201317
CREATED:20200202T043518Z
LAST-MODIFIED:20220203T021134Z
UID:4659-1643702400-1643734800@taqwamasjid.ca
SUMMARY:Hifz-ul-Quran - Graduation Ceremony
DESCRIPTION:
URL:https://taqwamasjid.ca/event/hifz-ul-quran-graduation-ceremony/
CATEGORIES:Past 2020
ATTACH;FMTTYPE=image/jpeg:https://taqwamasjid.ca/wp-content/uploads/2022/02/Feb-2-Done.jpg
END:VEVENT
BEGIN:VEVENT
DTSTART;TZID=America/Toronto:20211230T210000
DTEND;TZID=America/Toronto:20220330T230000
DTSTAMP:20260419T201317
CREATED:20211118T135240Z
LAST-MODIFIED:20220203T020119Z
UID:303-1640898000-1648681200@taqwamasjid.ca
SUMMARY:Mindful Modesty
DESCRIPTION:Masjid-ut-Taqwa presents “Mindful Modesty”; a virtual program for sisters\n \nRegister Now
URL:https://taqwamasjid.ca/event/nightly-commentary-4/
LOCATION:Onilne\, Canada
CATEGORIES:Past 2021
ATTACH;FMTTYPE=image/jpeg:https://taqwamasjid.ca/wp-content/uploads/2021/12/0001.jpg
END:VEVENT
END:VCALENDAR